Workbook

Sheet Kurzbeschreibung
A2: ACHTUNG: | B2: Alle nachfolgend angeführten Zahlenwerte sind frei erfunden.
B3: Aus diesen können keine Informationen, wie hoch eine einzelne Position sein sollte, abgeleitet werden.
B4: Ziel der Darstellung ist lediglich die Illustration der Rechentechnik.
B5: Im Beispiel ergibt sich ein höherer Überschuss (auch) aus der unvollständigen Abbildung der organisatorischen Einheiten.
A8: 1. Schritt | B8: Erstellung des JVA_referatsbezogen und Zuordnung der Einnahmen und Ausgaben zu den einzelnen organisatorischen Einheiten (wie bisher).
B9: Achtung: Gem. HSG 2014 müssen dabei den Studienvertretungen ohne Abzug zumindest 30 % der Studierendenbeiträge zugeordnet werden.
A11: 2. Schritt | B11: Erstellung des JVA im Format der Gebarungserfolgsrechnung.
B12: Zusammenfassung der einzelnen identen Ertrags- und Aufwandsarten über alle organisatorischen Einheiten.
B13: z.B. Zusammenfassen aller Sachaufwendungen der Studienvertretungen, Vorsitz, Referate usw. zum Sachaufwand der gesamten Hochschülerinnen- und Hochschülerschaft
B14: Bei Bedarf Einführen von ergänzenden Untergliederungen.
B15: Arbeitsschritt wird wiederholt für alle Ertrags- und Aufwandsarten gemäß Gliederung JVA_Gebarungserfolgsrechnung.
A17: 3. Schritt | B17: Elimination von Ausgaben des JVA_referatsbezogen, die nicht in identer Höhe Aufwendungen sind.
B18: z.B. Anschaffung Laptop
B19: Berücksichtigung von Aufwendungen, die nicht in der Ausgabenrechnung enthalten sind.
B20: Im Beispiel: Abschreibung (Afa) Laptop und Abschreibungen der in vorangegangenen Wirtschaftsjahren angeschafften Wirtschaftsgüter.
B21: Weitere häufiger denkbare Position in diesem Zusammenhang: Dotierung von Rückstellungen
A23: 4. Schritt | B23: Übersteigen die Einnahmen die Ausgaben, ist die Differenz im JVA_referatsbezogen einer Rücklage zuzuführen. Dies wird in identischer Höhe in der JVA_Gebarungserfolgsrechnung sichtbar.
B24: Der Gebarungserfolg/-überschuss (XVII) ergibt sich rechentechnisch lediglich aus der Differenz der Einnahmen-Ausgaben-Rechnung und der Aufwands-/Ertragsrechnung.
B25: Die fertig gestellte JVA_Gebarungserfolgsrechnung zeigt nun den JVA in der Form der Gewinn- und Verlustrechnung des Jahresabschlusses für die gesamte Körperschaft zusammengefasst.
A27: 5. Schritt | B27: Die Kontrollsummen zeigen die innere Stimmigkeit der Überleitungsrechnung und helfen bei der Umsetzung.
A29: 6. Schritt | B29: Der JVA_referatsbezogen ist für die Mittelverteilung innerhalb der Hochschülerinnen- und Hochschülerschaft heranzuziehen (wie bisher).
B30: Die JVA_Gebarungserfolgsrechnung zeigt bereits in der Planung das Bild der Erfolgsrechnung im Format des Jahresabschlusses (Möglichkeit für Kontrollrechnungen, Steuerungen innerhalb der Hochschülerinnen- und Hochschülerschaft).
A32: 7. Schritt | B32: Unterhalb der JVA_Gebarungserfolgsrechnung ist der Stand der Rücklagen der Hochschülerinnen- und Hochschülerschaft im Jahresabschluss des letzten geprüften Wirtschaftsjahres anzuführen.
B33: Damit wird für die Hochschülerinnen- und Hochschülerschaft selbst wie auch für andere Adressaten sichtbar, ob ein geplanter negativer Überschuss (Summe der Ausgaben höher als Summe der Einnahmen eines Planjahres) auch bedeckt werden kann.
A35: 8. Schritt | B35: Die JVA_Gebarungserfolgsrechnung, ergänzt um den Stand der Rücklagen, ist der Kontrollkommission in elektronischer Form (Excel-Datei) zu übermitteln.

Sheet JVA_referatsbezogen
A1: Jahresvoranschlag Studienjahr 2025/26 | B1: Hilfsspalte Verteilung Einnahmen Studierendenbeitrag auf STV (in Summe 30%) | C1: Einnahmen PLAN | D1: Ausgaben PLAN
A3: Studierendenbeitrag | C3: 100165.25
A4: Verwaltungskostenbeitrag | C4: 3026
A6: 1. Studienvertretungen | B6: =C3*0.3 -> 30049.575
A8: Studienvertretung PHDL | B8: Studierendenanteil 64%
A9: Anteil Studierendenbeiträge Primarstufe | B9: =C3*0.3*0.64 -> 19231.728
A10: Funktionsgebühren | D10: 2050
A11: Sachaufwand | D11: 7000 | G11: neue Studierende der Elementarpädagogik
A12: Materialbibliothek | D12: 2500
A13: STUDO-Lizenz | D13: 4200 | G13: teilweise Kostenübernahme der Lizenz
A14: EH-Kurse | D14: 2100
A16: Studienvertretung PHDL | B16: Studierendenanteil 36%
A17: Anteil Studierendenbeiträge Sekundarstufe | B17: =C3*0.3*0.36 -> 10817.847
A18: Funktionsgebühren | D18: 0
A19: Sachaufwand | D19: 5000
A20: EH-Kurse
A21: Sachaufwand
A23: 2. Hochschulvertretung
A24: Anteil Studierendenbeitrag | B24: =C3-(B9 + B17) -> 70115.675
A26: Vorsitz
A27: Funktionsgebühren | D27: 4800
A28: Sachaufwand | D28: 1000
A30: Referat für Wirtschaftliche Angelegenheiten
A31: Funktionsgebühren | D31: 1440
A32: Sachaufwand | D32: 0
A33: Fremdleistung (Buchhaltung, Steuerberatung, Wirtschaftsprüfung) | D33: 10000
A34: Rechtsberatung | D34: 500 | G34: gegenfalls Rechtsberatung notwendig
A35: Bankspesen | D35: 250
A37: Referat für Sozialpolitik
A38: Funktionsgebühren | D38: 1680
A39: Mensabonus | D39: 2000
A40: Kurse (EH-Kurse, Rhetorik, etc.) | D40: 2000 | G40: mehr Kursangebote
A41: Refundierung Exkursionen | D41: 4000
A43: Referat für Öffentlichkeitsarbeit
A44: Funktionsgebühren | D44: 2160
A45: Werbematerial, Goodies, Drucke | D45: 3000
A46: Bekleidung | D46: 1000
A47: Büromaterial/Bürobedarf/Porto | D47: 500
A48: Refundierung Fahrtkosten und Logis | D48: 1500 | G48: erhöhte Spritpreise, mehr MG
A49: Website | D49: 2200
...

Sheet JVA_Gebarungserfolgsrechnung
E1: Prüfsumme Einnahmen | F1: Prüfsumme Ausgaben
A2: I. Erträge im Zusammenhang mit der unmittelbaren Vertretungstätigkeit
A3: 1. Studierendenbeiträge | B3: =JVA_referatsbezogen!C3 -> 100165.25 | E3: =B3 -> 100165.25
A4: 2. Beiträge gem. §§ 7 Abs. 2, 14 Abs. 3 oder 25 Abs. 3 HSG 2014 | B4: =JVA_referatsbezogen!C4 -> 3026 | E4: =B4 -> 3026
A5: 3. Erträge aus Stiftungen, Spenden und Zuwendungen | B5: 0 | E5: =B5 -> 0
A6: 4. Erträge aus Inseraten und Werbung | B6: 0 | E6: =B6 -> 0
A7: 5. Sonstige Erträge | B7: 0 | E7: =B7 -> 0
A8: SUMME I | B8: =SUM(B3:B7) -> 103191.25
A10: II. Aufwendungen im Zusammenhang mit der unmittelbaren Vertretungstätigkeit
A11: 1. Personalaufwand
A12: a. Gehälter | B12: 0 | F12: =B12 -> 0
A13: b. Aufwendungen für Abfertigungen und Leistungen an betriebliche MV-Kassen | B13: 0 | F13: =B13 -> 0
A14: c. Aufwendungen für gesetzlich vorgeschriebene Sozialabgaben sowie vom Entgelt abhängige Abgaben und Pflichtbeiträge | B14: 0 | F14: =B14 -> 0
A15: d. Sonstige Sozialaufwendungen | B15: 0 | F15: =B15 -> 0
A16: e. Personalkostenreserve - ggf. vorsehen | B16: 0 | F16: =B16 -> 0
A17: 2. Aufwandsentschädigungen | B17: =JVA_referatsbezogen!D10+JVA_referatsbezogen!D18+JVA_referatsbezogen!D27+JVA_referatsbezogen!D31+JVA_referatsbezogen!D38+JVA_referatsbezogen!D44+JVA_referatsbezogen!D52+JVA_referatsbezogen!D56+JVA_referatsbezogen!D60+JVA_referatsbezogen!D68 -> 17530 | F17: =B17 -> 17530
A18: 3. Werkverträge und Honorare | B18: 0 | F18: =B18 -> 0
A19: 4. Sachaufwendungen | B19: =JVA_referatsbezogen!D11+JVA_referatsbezogen!D12+JVA_referatsbezogen!D13+JVA_referatsbezogen!D14+JVA_referatsbezogen!D19+JVA_referatsbezogen!D20+JVA_referatsbezogen!D28+JVA_referatsbezogen!D33+JVA_referatsbezogen!D39+JVA_referatsbezogen!D40+JVA_referatsbezogen!D41+JVA_referatsbezogen!D45+JVA_referatsbezogen!D46+JVA_referatsbezogen!D53+JVA_referatsbezogen!D57+JVA_referatsbezogen!D62+JVA_referatsbezogen!D69+JVA_referatsbezogen!D48+JVA_referatsbezogen!D49+JVA_referatsbezogen!D47+JVA_referatsbezogen!D63+JVA_referatsbezogen!D64+JVA_referatsbezogen!D65 -> 55500 | F19: =B19 -> 55500
A20: 5. Abschreibungen | B20: 0 | F20: 0
A21: SUMME II | B21: =SUM(B12:B20) -> 73030
A23: III. Ergebnis der unmittelbaren Vertretungstätigkeit (= I. abzüglich II.) | B23: =B8-B21 -> 30161.25
A25: IV. Erträge aus Veranstaltungen | B25: 0 | E25: =B25 -> 0
A26: V. Aufwendungen aus Veranstaltungen | B26: =JVA_referatsbezogen!D61 -> 6500 | F26: =B26 -> 6500
A27: VI. Ergebnis aus Veranstaltungen (IV. abzüglich V.) | B27: =B25-B26 -> -6500
A29: VII. Erträge aus wirtschaftlichen Aktivitäten/Wirtschaftsbetrieben/ Beteiligungen | B29: 0 | E29: =B29 -> 0
A30: VIII. Aufwendungen aus wirtschaftlichen Aktivitäten/Wirtschaftsbetrieben/ Beteiligungen | B30: 0 | F30: =B30 -> 0
A31: IX. Ergebnis aus wirtschaftlichen Aktivitäten/Wirtschaftsbetrieben/ Beteiligungen (VII. abzüglich VIII.) | B31: =B29-B30 -> 0
A33: X. Finanzerträge | B33: =JVA_referatsbezogen!C35 -> 0 | E33: =B33 -> 0
A34: XI. Finanzaufwendungen | B34: =JVA_referatsbezogen!D35 -> 250 | F34: =B34 -> 250
A35: XII. Finanzergebnis (X. abzüglich XI.) | B35: =B33-B34 -> -250
A37: XIII. Steuern und Abgaben | B37: 0 | F37: =B37 -> 0
A38: XIV. Ergebnis der laufenden Gebarung (Summe aus III., VI., IX., XII. abzüglich XIII.) | B38: =B23+B27+B31+B35-B37 -> 23411.25
A40: XV. abzüglich Zuweisung zu Rücklagen | B40: =JVA_referatsbezogen!D73 -> 20911.25
A41: XVI. zuzüglich Auflösung von Rücklagen | B41: =JVA_referatsbezogen!C72 -> 0
A42: XVII. Gebarungsüberschuss/-fehlbetrag | B42: =B38-B40+B41 -> 2500
B43: =B20 -> 0 | C43: zzgl. Abschreibungen | E43: =SUM(E3:E37) -> 103191.25 | F43: =SUM(F3:F37) -> 79780
B44: 0 | C44: abzgl. Investitionen
A45: Check: | B45: =SUM(B42:B44) -> 2500 | C45: (muss 0 sein!) | D45: Differenz zu JVA_referatsbezogen: (muss 0 sein!) | E45: =E43-JVA_referatsbezogen!C71 -> 0 | F45: =F43-JVA_referatsbezogen!D71 -> -2500
A47: Eigenkapital per 30.06.2025 | C47: 329847.53
A49: Information: Studienvertretung 30 % der ÖH Beiträge: | C49: =B3*0.3 -> 30049.575
...
